Workbook

Sheet 2A_Overall
A1: 2. PROJECT BUDGET
A3: 2 A) | B3: Overall Budget
B4: Please provide a detailed breakdown of the overall/total budget required for the project (including Company Applicants's contributions). Please note that budget amounts should be rounded to the nearest S$10 for direct costs.
B5: For DRIVE budget request, please compute the total requirements for manpower, consumables and equipment of the project using the Research Institution (RI)'s actual rates in accordance with the RI's HR policy, and indicate indirect or overhead costs where applicable. Please clearly articulate the manpower involved in the Project, including a distinction of the respective funding sources: Grant-funded, Company Applicant’s in‑kind or cash contributions).
B6: For Coy Cash and in-kind figures, please ensure the figures align with the Coy Cash and In-kind budget submitted by the Company Applicant.
B7: Use this section to provide details and rationale for the budget support requested for the performance of the Project, and indicate the corresponding Work Package (WP) for each budget line item, where applicable, to ensure alignment between resource requirements and the Project Plan. • EOM: Describe the specific contributions of each staff member to the project deliverables, and highlight any technical challenges associated with their roles. • EQPT: Justify for each equipment item, demonstrating how it supports the achievement of project deliverables. • OOE: Justify for all Other Operating Expenses requested.
B8: Note: Please retain the line items in each worksheet and avoid merging rows. If there are multiple institutions or companies involved in the Project, please specify the entity in brackets under ‘Site of Spending’, e.g. SG Performer (NTU), SG Performer (NUS), SG Company (ABC).
B10: Manpower (EOM) | C10: Stage 1 | D10: Stage 2 | E10: Stage 3 | F10: Stage 4 | G10: Stage 5 | H10: Total ($)
C11: S($) | D11: S($) | E11: S($) | F11: S($) | G11: S($)
B12: DRIVE Request | C12: ='DRIVE Request'!H13 -> 0 | D12: ='DRIVE Request'!I13 -> 0 | E12: ='DRIVE Request'!J13 -> 0 | F12: ='DRIVE Request'!K13 -> 0 | G12: ='DRIVE Request'!L13 -> 0 | H12: =SUM(C12:G12) -> 0
B13: Coy Cash | C13: 0 | D13: 0 | E13: 0 | F13: 0 | G13: 0 | H13: =SUM(C13:G13) -> 0
B14: Coy In-Kind | C14: 0 | D14: 0 | E14: 0 | F14: 0 | G14: 0 | H14: =SUM(C14:G14) -> 0
B15: EOM Sub-Total | C15: =SUM(C12:C14) -> 0 | D15: =SUM(D12:D14) -> 0 | E15: =SUM(E12:E14) -> 0 | F15: =SUM(F12:F14) -> 0 | G15: =SUM(G12:G14) -> 0 | H15: =SUM(C15:G15) -> 0
B16: Equipment (EQPT) (please state item) | C16: Stage 1 | D16: Stage 2 | E16: Stage 3 | F16: Stage 4 | G16: Stage 5 | H16: Total ($)
C17: S($) | D17: S($) | E17: S($) | F17: S($) | G17: S($)
B18: DRIVE Request | C18: ='DRIVE Request'!H20 -> 0 | D18: ='DRIVE Request'!I20 -> 0 | E18: ='DRIVE Request'!J20 -> 0 | F18: ='DRIVE Request'!K20 -> 0 | G18: ='DRIVE Request'!L20 -> 0 | H18: =SUM(C18:G18) -> 0
B19: Coy Cash | C19: 0 | D19: 0 | E19: 0 | F19: 0 | G19: 0 | H19: =SUM(C19:G19) -> 0
B20: Coy In-Kind | C20: 0 | D20: 0 | E20: 0 | F20: 0 | G20: 0 | H20: =SUM(C20:G20) -> 0
B21: EQPT Sub-Total | C21: =SUM(C18:C20) -> 0 | D21: =SUM(D18:D20) -> 0 | E21: =SUM(E18:E20) -> 0 | F21: =SUM(F18:F20) -> 0 | G21: =SUM(G18:G20) -> 0 | H21: =SUM(C21:G21) -> 0
B22: Other Operating Expenses (OOE) | C22: Stage 1 | D22: Stage 2 | E22: Stage 3 | F22: Stage 4 | G22: Stage 5 | H22: Total ($)
C23: S($) | D23: S($) | E23: S($) | F23: S($) | G23: S($)
B24: DRIVE Request | C24: ='DRIVE Request'!H28 -> 0 | D24: ='DRIVE Request'!I28 -> 0 | E24: ='DRIVE Request'!J28 -> 0 | F24: ='DRIVE Request'!K28 -> 0 | G24: ='DRIVE Request'!L28 -> 0 | H24: =SUM(C24:G24) -> 0
B25: Coy Cash | C25: 0 | D25: 0 | E25: 0 | F25: 0 | G25: 0 | H25: =SUM(C25:G25) -> 0
B26: Coy In-Kind | C26: 0 | D26: 0 | E26: 0 | F26: 0 | G26: 0 | H26: =SUM(C26:G26) -> 0
B27: OOE Sub-Total | C27: =SUM(C24:C26) -> 0 | D27: =SUM(D24:D26) -> 0 | E27: =SUM(E24:E26) -> 0 | F27: =SUM(F24:F26) -> 0 | G27: =SUM(G24:G26) -> 0 | H27: =SUM(C27:G27) -> 0
B28: Overseas Travel (TRVL) | C28: Stage 1 | D28: Stage 2 | E28: Stage 3 | F28: Stage 4 | G28: Stage 5 | H28: Total ($)
C29: S($) | D29: S($) | E29: S($) | F29: S($) | G29: S($)
B30: DRIVE Request | C30: ='DRIVE Request'!H31 -> 0 | D30: ='DRIVE Request'!I31 -> 0 | E30: ='DRIVE Request'!J31 -> 0 | F30: ='DRIVE Request'!K31 -> 0 | G30: ='DRIVE Request'!L31 -> 0 | H30: =SUM(C30:G30) -> 0
B31: Coy Cash | C31: 0 | D31: 0 | E31: 0 | F31: 0 | G31: 0 | H31: =SUM(C31:G31) -> 0
B32: Overseas Travel Sub-Total | C32: =SUM(C31:C31) -> 0 | D32: =SUM(D31:D31) -> 0 | E32: =SUM(E31:E31) -> 0 | F32: =SUM(F31:F31) -> 0 | G32: =SUM(G31:G31) -> 0 | H32: =SUM(C32:G32) -> 0
B33: Indirect Costs | C33: Stage 1 | D33: Stage 2 | E33: Stage 3 | F33: Stage 4 | G33: Stage 5 | H33: Total ($)
C34: S($) | D34: S($) | E34: S($) | F34: S($) | G34: S($)
B35: DRIVE Request | C35: ='DRIVE Request'!H45 -> 0 | D35: ='DRIVE Request'!I45 -> 0 | E35: ='DRIVE Request'!J45 -> 0 | F35: ='DRIVE Request'!K45 -> 0 | G35: ='DRIVE Request'!L45 -> 0 | H35: =SUM(C35:G35) -> 0
B36: Coy Cash | C36: 0 | D36: 0 | E36: 0 | F36: 0 | G36: 0 | H36: =SUM(C36:G36) -> 0
B37: Coy In-Kind | C37: 0 | D37: 0 | E37: 0 | F37: 0 | G37: 0 | H37: =SUM(C37:G37) -> 0
B38: IDC Sub-Total | C38: =SUM(C35:C37) -> 0 | D38: =SUM(D35:D37) -> 0 | E38: =SUM(E35:E37) -> 0 | F38: =SUM(F35:F37) -> 0 | G38: =SUM(G35:G37) -> 0 | H38: =SUM(C38:G38) -> 0
B39: GRAND TOTAL | C39: =SUM(C15,C21,C27,C32,C38) -> 0 | D39: =SUM(D15,D21,D27,D32,D38) -> 0 | E39: =SUM(E15,E21,E27,E32,E38) -> 0 | F39: =SUM(F15,F21,F27,F32,F38) -> 0 | G39: =SUM(G15,G21,G27,G32,G38) -> 0 | H39: =SUM(H15,H21,H27,H32,H38) -> 0
B40: GRAND TOTAL (IN SINGAPORE ONLY) | C40: =SUM(C15,C21,C27,C32,C38) -> 0 | D40: =SUM(D15,D21,D27,D32,D38) -> 0 | E40: =SUM(E15,E21,E27,E32,E38) -> 0 | F40: =SUM(F15,F21,F27,F32,F38) -> 0 | G40: =SUM(G15,G21,G27,G32,G38) -> 0 | H40: =SUM(H15,H21,H27,H32,H38) -> 0

Sheet DRIVE Request
A1: 2. PROJECT BUDGET
B3: Research Performer's DRIVE Budget Request
H4: *round to nearest S$10 for direct costs
B5: Manpower (EOM) | C5: Qualifications | D5: % Full Time Equivalent | E5: No. of headcount (Indicate subset of new hires, if any) | F5: Source of Funding | G5: Site of Spending (SG Company, SG Performer or Overseas) | H5: Stage 1 | I5: Stage 2 | J5: Stage 3 | K5: Stage 4 | L5: Stage 5 | M5: Total ($) | N5: Work Package (if any) | O5: Justifications
H6: S($) | I6: S($) | J6: S($) | K6: S($) | L6: S($)
B7: PI (Name) | F7: DRIVE | M7: =SUM(H7:K7) -> 0
B8: Co-I (Name) | F8: DRIVE | M8: =SUM(H8:K8) -> 0
B9: Postdoctoral Fellow | M9: =SUM(H9:K9) -> 0
B10: Research Officer | M10: =SUM(H10:K10) -> 0
B11: Lab Technician | M11: =SUM(H11:K11) -> 0
B12: (Pls insert more rows / delete unused rows) | M12: =SUM(H12:K12) -> 0
B13: EOM Sub-Total | H13: =SUM(H7:H12) -> 0 | I13: =SUM(I7:I12) -> 0 | J13: =SUM(J7:J12) -> 0 | K13: =SUM(K7:K12) -> 0 | L13: =SUM(L7:L12) -> 0 | M13: =SUM(M7:M12) -> 0 | N13: -
B14: Equipment (EQPT) (Please state items) | D14: % Usage | E14: No. of EQPT | F14: Source of Funding | G14: Site of Spending (SG Company, SG Performer or Overseas) | H14: Stage 1 | I14: Stage 2 | J14: Stage 3 | K14: Stage 4 | L14: Stage 5 | M14: Total ($) | N14: Work Package (if any) | O14: Justifications#
H15: S($) | I15: S($) | J15: S($) | K15: S($) | L15: S($)
F16: DRIVE | M16: =SUM(H16:K16) -> 0
F17: DRIVE | M17: =SUM(H17:K17) -> 0
M18: =SUM(H18:K18) -> 0
B19: (Pls insert more rows / delete unused rows) | M19: =SUM(H19:K19) -> 0
B20: EQPT Sub-Total | H20: =SUM(H16:H19) -> 0 | I20: =SUM(I16:I19) -> 0 | J20: =SUM(J16:J19) -> 0 | K20: =SUM(K16:K19) -> 0 | L20: =SUM(L16:L19) -> 0 | M20: =SUM(M16:M19) -> 0 | N20: -
B21: Other Operating Expenses (OOE) | F21: Source of Funding | G21: Site of Spending (SG Company, SG Performer or Overseas) | H21: Stage 1 | I21: Stage 2 | J21: Stage 3 | K21: Stage 4 | L21: Stage 5 | M21: Total ($) | N21: Work Package (if any) | O21: Justifications#
H22: S($) | I22: S($) | J22: S($) | K22: S($) | L22: S($)
B23: Materials | M23: =SUM(H23:K23) -> 0
B24: Consumables | M24: =SUM(H24:K24) -> 0
B25: Animal Costs | M25: =SUM(H25:K25) -> 0
B26: Others (please state) | M26: =SUM(H26:K26) -> 0
B27: (Pls insert more rows / delete unused rows) | M27: =SUM(H27:K27) -> 0
B28: OOE Sub-Total | H28: =SUM(H23:H27) -> 0 | I28: =SUM(I23:I27) -> 0 | J28: =SUM(J23:J27) -> 0 | K28: =SUM(K23:K27) -> 0 | L28: =SUM(L23:L27) -> 0 | M28: =SUM(M23:M27) -> 0 | N28: -
B29: Overseas Travel (OT) | E29: No. of trips | F29: Source of Funding | G29: Site of Spending (SG Company, SG Performer or Overseas) | H29: Stage 1 | I29: Stage 2 | J29: Stage 3 | K29: Stage 4 | L29: Stage 5 | M29: Total ($) | N29: Work Package (if any) | O29: Justifications#
H30: S($) | I30: S($) | J30: S($) | K30: S($) | L30: S($)
B31: Conferences (please provide names and places) | M31: =SUM(H31:K31) -> 0
B32: Events (please provide names and places) | M32: =SUM(H32:K32) -> 0
B33: OT Sub-Total | H33: =SUM(H31:H32) -> 0 | I33: =SUM(I31:I32) -> 0 | J33: =SUM(J31:J32) -> 0 | K33: =SUM(K31:K32) -> 0 | L33: =SUM(L31:L32) -> 0 | M33: =SUM(M31:M32) -> 0 | N33: -
B34: Research Scholarship (if any) | D34: % Full Time Equivalent | E34: No. of Headcount involved | F34: Source of Funding | G34: Site of Spending (SG Company, SG Performer or Overseas) | H34: Stage 1 | I34: Stage 2 | J34: Stage 3 | K34: Stage 4 | L34: Stage 5 | M34: Total ($) | O34: Justifications
H35: S($) | I35: S($) | J35: S($) | K35: S($) | L35: S($)
M36: =SUM(G36:K36) -> 0
B37: Research Scholarship Sub-Total (provide details in Para 2D) | H37: =SUM(H36) -> 0 | I37: =SUM(I36) -> 0 | J37: =SUM(J36) -> 0 | K37: =SUM(K36) -> 0 | L37: =SUM(L36) -> 0 | M37: =SUM(M36) -> 0
B38: Joint Fund (if any) | F38: Source of Funding | G38: Site of Spending (SG Company, SG Performer or Overseas) | H38: Stage 1 | I38: Stage 2 | J38: Stage 3 | K38: Stage 4 | L38: Stage 5 | M38: Total ($) | O38: Justifications
H39: S($) | I39: S($) | J39: S($) | K39: S($) | L39: S($)
M40: =SUM(G40:K40) -> 0
B41: Joint Fund Sub-Total (provide details in Para 2D) | H41: =SUM(H40) -> 0 | I41: =SUM(I40) -> 0 | J41: =SUM(J40) -> 0 | K41: =SUM(K40) -> 0 | L41: =SUM(L40) -> 0 | M41: =SUM(M40) -> 0
...
